View In:
ArcGIS JavaScript
ArcGIS Online Map Viewer
ArcGIS Earth
ArcMap
ArcGIS Pro
View Footprint In:
ArcGIS Online Map Viewer
Service Description: This map is designed to be used by GIS professionals to overlay base maps and thematic maps such as demographics or land cover for reference purposes. The reference map includes administrative boundaries, cities, water features, physiographic features, parks, landmarks, highways, roads, railways, and airports on a transparent background. The map was compiled from a variety of best available sources from several data providers, including the U.S. Geological Survey, National Park Service, Garmin, and ESRI. The reference map currently provides coverage for the world down to a scale of ~1:1m and coverage for the continental United States and Hawaii to a scale of ~1:70k.For more information on this map, including the terms of use, visit us
online.
Map Name: Layers
Legend
All Layers and Tables
Layers:
Description: This map is designed to be used by GIS professionals to overlay base maps and thematic maps such as demographics or land cover for reference purposes. The reference map includes administrative boundaries, cities, water features, physiographic features, parks, landmarks, highways, roads, railways, and airports on a transparent background. The map was compiled from a variety of best available sources from several data providers, including the U.S. Geological Survey, National Park Service, Garmin, and ESRI. The reference map currently provides coverage for the world down to a scale of ~1:1m and coverage for the continental United States and Hawaii to a scale of ~1:70k. For more information on this map, including our terms of use, visit us online at http://goto.arcgisonline.com/maps/Reference/World_Reference_Overlay
Copyright Text: Sources: Esri, Garmin, USGS, NPS
Spatial Reference:
102100
(3857)
Single Fused Map Cache: true
Tile Info:
- Height: 256
- Width: 256
- DPI: 96
-
Levels of Detail: 14
-
Level ID: 0
[ Start Tile, End Tile ]
- Resolution: 156543.03392800014
- Scale: 5.91657527591555E8
-
Level ID: 1
[ Start Tile, End Tile ]
- Resolution: 78271.51696399994
- Scale: 2.95828763795777E8
-
Level ID: 2
[ Start Tile, End Tile ]
- Resolution: 39135.75848200009
- Scale: 1.47914381897889E8
-
Level ID: 3
[ Start Tile, End Tile ]
- Resolution: 19567.87924099992
- Scale: 7.3957190948944E7
-
Level ID: 4
[ Start Tile, End Tile ]
- Resolution: 9783.93962049996
- Scale: 3.6978595474472E7
-
Level ID: 5
[ Start Tile, End Tile ]
- Resolution: 4891.96981024998
- Scale: 1.8489297737236E7
- Format: PNG32
- Compression Quality: 0.0
- Origin: X: -2.0037508342787E7
Y: 2.0037508342787E7
- Spatial Reference: 102100
(3857)
Initial Extent:
XMin: -2.2616419794228174E7
YMin: -1.6445800995315792E7
XMax: 2.2616419794228174E7
YMax: 1.644580099531568E7
Spatial Reference: 102100
(3857)
Full Extent:
XMin: -2.0037507067161843E7
YMin: -1.99718688804086E7
XMax: 2.0037507067161843E7
YMax: 1.9971868880408484E7
Spatial Reference: 102100
(3857)
Units: esriMeters
Supported Image Format Types: PNG32,PNG24,PNG,JPG,DIB,TIFF,EMF,PS,PDF,GIF,SVG,SVGZ,BMP
Document Info:
Title: World Reference Overlay
Author: Esri
Comments:
Subject:
Category:
Keywords: World,Global,Europe,North America,South America,Central America,India,Asia,Middle East,Northern Africa,Southern Africa,Australia,New Zealand
AntialiasingMode: None
TextAntialiasingMode: Force
Supports Dynamic Layers: false
MaxRecordCount: 1000
MaxImageHeight: 4096
MaxImageWidth: 4096
Supported Query Formats: JSON, geoJSON
Supports Query Data Elements:
Min Scale: 0
Max Scale: 0
Supports Datum Transformation: true
Child Resources:
Info
Supported Operations:
Export Map
QueryLegends
Return Updates
Generate KML