View In:
ArcGIS JavaScript
ArcGIS Online Map Viewer
ArcGIS Earth
ArcMap
ArcGIS Pro
View Footprint In:
ArcGIS Online Map Viewer
Service Description: This map service is designed to be used as the reference layer for the ocean base map. The reference layer includes marine water body names, undersea feature names, and derived depth values in meters. Land features include administrative boundaries, cities, inland waters, roads, overlaid on land cover and shaded relief imagery. The reference layer was compiled from a variety of best available sources from several data providers, including General Bathymetric Chart of the Oceans GEBCO_08 Grid, IHO-IOC GEBCO Gazetteer of Undersea Feature Names, National Oceanic and Atmospheric Administration (NOAA), and National Geographic, Garmin, HERE, Geonames.org, and Esri, and various other contributors. The base map currently provides coverage for the world down to a scale of ~1:577k, and coverage down to 1:72k in US coastal areas, and various other areas. Coverage down to ~ 1:9k is available limited areas based on regional hydrographic survey data. The base map was designed and developed by Esri. NOTE: Data from the GEBCO_08 grid shall not to be used for navigation or for any other purpose relating to safety at sea. The GEBCO_08 Grid is largely based on a database of ship-track soundings with interpolation between soundings guided by satellite-derived gravity data. In some areas, data from existing grids are included. The GEBCO_08 Grid does not contain detailed information in shallower water areas, information concerning the generation of the grid can be found on GEBCO's web site: GEBCO. The GEBCO_08 Grid is accompanied by a Source Identifier (SID) Grid which indicates which cells in the GEBCO_08 Grid are based on soundings or existing grids and which have been interpolated. The latest version of both grids and accompanying documentation is available to download, on behalf of GEBCO, from the British Oceanographic Data Centre (BODC) BODC. The names of the IHO (International Hydrographic Organization), IOC (intergovernmental Oceanographic Commission), GEBCO (General Bathymetric Chart of the Oceans), NERC (Natural Environment Research Council) or BODC (British Oceanographic Data Centre) may not be used in any way to imply, directly or otherwise, endorsement or support of either the Licensee or their mapping system. For more information on this map, including the terms of use, visit us
online.
Map Name: Layers
Legend
All Layers and Tables
Layers:
Description: This map service is designed to be used as the reference layer for the ocean base map. The reference layer includes marine water body names, undersea feature names, and derived depth values in meters. Land features include administrative boundaries, cities, inland waters, roads, overlaid on land cover and shaded relief imagery. The reference layer was compiled from a variety of best available sources from several data providers, including General Bathymetric Chart of the Oceans GEBCO_08 Grid, IHO-IOC GEBCO Gazetteer of Undersea Feature Names, National Oceanic and Atmospheric Administration (NOAA), and National Geographic, Garmin, HERE, Geonames.org, and Esri, and various other contributors. The base map currently provides coverage for the world down to a scale of ~1:577k, and coverage down to 1:72k in US coastal areas, and various other areas. Coverage down to ~ 1:9k is available limited areas based on regional hydrographic survey data. The base map was designed and developed by Esri. NOTE: Data from the GEBCO_08 grid shall not to be used for navigation or for any other purpose relating to safety at sea. The GEBCO_08 Grid is largely based on a database of ship-track soundings with interpolation between soundings guided by satellite-derived gravity data. In some areas, data from existing grids are included. The GEBCO_08 Grid does not contain detailed information in shallower water areas, information concerning the generation of the grid can be found on GEBCO's web site: GEBCO. The GEBCO_08 Grid is accompanied by a Source Identifier (SID) Grid which indicates which cells in the GEBCO_08 Grid are based on soundings or existing grids and which have been interpolated. The latest version of both grids and accompanying documentation is available to download, on behalf of GEBCO, from the British Oceanographic Data Centre (BODC) BODC. The names of the IHO (International Hydrographic Organization), IOC (intergovernmental Oceanographic Commission), GEBCO (General Bathymetric Chart of the Oceans), NERC (Natural Environment Research Council) or BODC (British Oceanographic Data Centre) may not be used in any way to imply, directly or otherwise, endorsement or support of either the Licensee or their mapping system. For more information on this map, including our terms of use, visit us online at http://goto.arcgisonline.com/maps/Ocean_Basemap
Copyright Text: Sources: Esri, GEBCO, NOAA, National Geographic, Garmin, HERE, Geonames.org, and other contributors
Spatial Reference:
102100
(3857)
Single Fused Map Cache: true
Tile Info:
- Height: 256
- Width: 256
- DPI: 96
-
Levels of Detail: 17
-
Level ID: 0
[ Start Tile, End Tile ]
- Resolution: 156543.03392800014
- Scale: 5.91657527591555E8
-
Level ID: 1
[ Start Tile, End Tile ]
- Resolution: 78271.51696399994
- Scale: 2.95828763795777E8
-
Level ID: 2
[ Start Tile, End Tile ]
- Resolution: 39135.75848200009
- Scale: 1.47914381897889E8
-
Level ID: 3
[ Start Tile, End Tile ]
- Resolution: 19567.87924099992
- Scale: 7.3957190948944E7
-
Level ID: 4
[ Start Tile, End Tile ]
- Resolution: 9783.93962049996
- Scale: 3.6978595474472E7
-
Level ID: 5
[ Start Tile, End Tile ]
- Resolution: 4891.96981024998
- Scale: 1.8489297737236E7
- Format: PNG32
- Compression Quality: 0.0
- Origin: X: -2.0037508342787E7
Y: 2.0037508342787E7
- Spatial Reference: 102100
(3857)
Initial Extent:
XMin: -6.947455629846957E7
YMin: -4.4516607049296945E7
XMax: -2.424171671001316E7
YMax: -1.1625005058665428E7
Spatial Reference: 102100
Full Extent:
XMin: -2.0037508231469758E7
YMin: -1.997186888040859E7
XMax: 2.0037508231469758E7
YMax: 1.9971868880408563E7
Spatial Reference: 102100
Units: esriMeters
Supported Image Format Types: PNG32,PNG24,PNG,JPG,DIB,TIFF,EMF,PS,PDF,GIF,SVG,SVGZ,BMP
Document Info:
Title: Ocean Reference
Author: Esri
Comments:
Subject: bathymetry, marine water body names, undersea feature names
Category:
Keywords: World,Global,Bathymetry,Ocean,Seafloor
AntialiasingMode: None
TextAntialiasingMode: Force
Supports Dynamic Layers: false
MaxRecordCount: 1000
MaxImageHeight: 4096
MaxImageWidth: 4096
Supported Query Formats: JSON, geoJSON
Supports Query Data Elements:
Min Scale: 0
Max Scale: 0
Supports Datum Transformation: true
Child Resources:
Info
Supported Operations:
Export Map
QueryLegends
Return Updates
Generate KML