View In:
ArcGIS JavaScript
ArcGIS Online Map Viewer
ArcGIS Earth
ArcGIS Pro
Service Description: <div style='text-align:Left;font-size:12pt'><p><span>This map draws attention to your thematic content by providing a neutral background with minimal colors, labels, and features. Only key information is represented to provide geographic context, allowing your data to come to the foreground. This dark gray map supports bright colors, creating a visually compelling map graphic which helps your reader see the patterns intended. This map was developed by Esri using HERE data, Garmin basemap layers, OpenStreetMap contributors, Esri basemap data, and select data from the GIS user community. Worldwide coverage is provided from Level 0 (1:591M scale) through Level 10 (1:577k scale). In North America, Central and South America, Africa, India, Australia & New Zealand, Pacific Islands, and select countries in the Middle East from Level 11 (1:288k scale) through Level 16 (1:9k scale). For more information on this map, visit us online at https://goto.arcgisonline.com/maps/World_Dark_Gray_Base</span></p></div>
Map Name: Layers
Legend
All Layers and Tables
Layers:
Description: <DIV STYLE="text-align:Left;font-size:12pt"><P><SPAN>This map draws attention to your thematic content by providing a neutral background with minimal colors, labels, and features. Only key information is represented to provide geographic context, allowing your data to come to the foreground. This dark gray map supports bright colors, creating a visually compelling map graphic which helps your reader see the patterns intended. This map was developed by Esri using HERE data, Garmin basemap layers, OpenStreetMap contributors, Esri basemap data, and select data from the GIS user community. Worldwide coverage is provided from Level 0 (1:591M scale) through Level 10 (1:577k scale). In North America, Central and South America, Africa, India, Australia & New Zealand, Pacific Islands, and select countries in the Middle East from Level 11 (1:288k scale) through Level 16 (1:9k scale). For more information on this map, visit us online at https://goto.arcgisonline.com/maps/World_Dark_Gray_Base</SPAN></P></DIV>
Copyright Text: Esri, HERE, Garmin, (c) OpenStreetMap contributors, and the GIS user community
Spatial Reference:
102100
(3857)
LatestVCSWkid(0)
Single Fused Map Cache: true
Tile Info:
- Height: 256.0
- Width: 256.0
- DPI: 96.0
-
Levels of Detail: 24
-
Level ID: 0
[ Start Tile, End Tile ]
- Resolution: 156543.03392800014
- Scale: 5.91657527591555E8
-
Level ID: 1
[ Start Tile, End Tile ]
- Resolution: 78271.51696399994
- Scale: 2.95828763795777E8
-
Level ID: 2
[ Start Tile, End Tile ]
- Resolution: 39135.75848200009
- Scale: 1.47914381897889E8
-
Level ID: 3
[ Start Tile, End Tile ]
- Resolution: 19567.87924099992
- Scale: 7.3957190948944E7
-
Level ID: 4
[ Start Tile, End Tile ]
- Resolution: 9783.93962049996
- Scale: 3.6978595474472E7
-
Level ID: 5
[ Start Tile, End Tile ]
- Resolution: 4891.96981024998
- Scale: 1.8489297737236E7
- Format: MIXED
- Compression Quality: 90.0
- Origin: X: -2.0037508342787E7
Y: 2.0037508342787E7
- Spatial Reference: 102100
(3857)
LatestVCSWkid(0)
Storage Info:
- Storage Format: esriMapCacheStorageModeCompactV2
- Packet Size: 128
Initial Extent:
XMin: -2.0037507067161843E7
YMin: -2.328451214794976E7
XMax: 2.0037507067161843E7
YMax: 2.3328666329414517E7
Spatial Reference: 102100
(3857)
LatestVCSWkid(0)
Full Extent:
XMin: -2.0037507067161843E7
YMin: -1.999070943504232E7
XMax: 2.0037507067161843E7
YMax: 2.0034863616507012E7
Spatial Reference: 102100
(3857)
LatestVCSWkid(0)
Units: esriMeters
Supported Image Format Types: PNG32,PNG24,PNG,JPG,DIB,TIFF,EMF,PS,PDF,GIF,SVG,SVGZ,BMP
Document Info:
Title: Dark Gray Canvas Base
Author:
Comments: <DIV STYLE="text-align:Left;font-size:12pt"><P><SPAN>This map draws attention to your thematic content by providing a neutral background with minimal colors, labels, and features. Only key information is represented to provide geographic context, allowing your data to come to the foreground. This dark gray map supports bright colors, creating a visually compelling map graphic which helps your reader see the patterns intended. This map was developed by Esri using HERE data, Garmin basemap layers, OpenStreetMap contributors, Esri basemap data, and select data from the GIS user community. Worldwide coverage is provided from Level 0 (1:591M scale) through Level 10 (1:577k scale). In North America, Central and South America, Africa, India, Australia & New Zealand, Pacific Islands, and select countries in the Middle East from Level 11 (1:288k scale) through Level 16 (1:9k scale). For more information on this map, visit us online at https://goto.arcgisonline.com/maps/World_Dark_Gray_Base</SPAN></P></DIV>
Subject: In mature support; no longer updated.
Category:
Keywords: thematic basemap,thematic map,choropleth,dot map,dot density,flow map,heat map,graphs,infographic,graduated symbols,proportional symbols,neutral,subdued,canvas,shaded,hot spot,color coded,colorful,World,Global,Europe,Andorra,Austria,Belgium,Czech Republic,Denmark,France,Germany,Great Britain,Greece,Hungary,Ireland,Italy,Luxembourg,Netherlands,Norway,Poland,Portugal,San Marino,Slovakia,Spain,Sweden,Switzerland,North America,United States,Canada,Mexico,Southern Africa,Botswana,Lesotho,Namibia,South Africa and Swaziland,Asia,India,South America,Central America,Argentina,Bolivia,Brazil,Chile,Colombia,Peru,Uruguay,Venezuela,Australia,New Zealand
AntialiasingMode: Fast
TextAntialiasingMode: Force
Supports Dynamic Layers: false
MaxRecordCount: 2000
MaxSelectionCount: 2000
MaxImageHeight: 4096
MaxImageWidth: 4096
Supported Query Formats: JSON, geoJSON, PBF
Supports Query Data Elements: true
Min Scale: 0
Max Scale: 0
Supports Datum Transformation: true
Child Resources:
Info
Supported Operations:
Export Map
QueryLegends
Return Updates
Generate KML